Workbook
Name _Hlk111537703: 'Table 1'!$A$1
Name _Hlk111537721: 'Table 2'!$A$1
Name _Hlk111537733: 'Table 3'!$A$1
Name _Hlk111537756: 'Table 6'!$A$4
Name _Hlk111537767: 'Table 7'!$A$1
Name _Hlk99103046: 'Table 7'!$A$17
Name SourcesTable1: 'Table 1'!$B$92
Name SourcesTable2: 'Table 2'!$B$93
Name SourcesTable3: 'Table 3'!$B$58
Name SourcesTable4: 'Table 4'!$B$91
Name SourcesTable5: 'Table 5'!$B$92
Name SourcesTable6: 'Table 6'!$B$95
Name SourcesTable7: 'Table 7'!$B$93
Name SourcesTable8: 'Table 8'!$B$85
Name SourcesTable9: 'Table 9'!$B$84

Sheet Contents
A1: Tables and sources for
A2: The Employment Contracts Act 1991 and the labour share of output in Aotearoa/New Zealand
A3: Geoff Bertram and Bill Rosenberg
A5: Contents
A7: Table 1: Deriving the labour participation ratio and Wage Ratio for employees, 1939-2023
A8: Table 2: Components of the Wage Ratio, in real terms (2020 dollar values)
A9: Table 3: Wage Ratios by gender
A10: Table 4. Analysis using estimated full-time workers in place of ‘employees’
A11: Table 5: Imputation of labour income to the self-employed
A12: Table 6: Aggregating employees and self-employed
A13: Table 7: Calculation of the Wage Ratio for various combinations of employees, self-employed and unemployed
A14: Table 8: Industry composition of employment of wage and salary workers, various sources 1947-2020, thousands of employed workers
A15: Table 9: Distribution of value added between labour and surplus by industry, March years 1947-2021

Sheet Table 1
A1: Table 1: Deriving the labour participation ratio and Wage Ratio for employees, 1939-2023
A2: Click for table sources
B3: 1 | C3: 2 | D3: 3 | E3: 4 | F3: 5 | G3: 6 | H3: 7 | I3: 8 | J3: 9 | K3: 10 | L3: 11 | M3: 12 | N3: 13 | O3: 14 | P3: 15 | Q3: 16 | R3: (17) | S3: (18)
B4: Adult population aged 16 and over | C4: Employed wage and salary workers | D4: Employees employment rate, (2) ÷ (1) | E4: Net domestic income at factor cost $m | F4: Net Imputed rent of owner-occupied property, $m | G4: Adjusted NDI (excluding owner-occupied property), (4) - (5) | H4: Adjusted NDI per adult $, (6) ÷ (1) | I4: Compensation of employees $m | J4: Labour income per employee $, (8) ÷ (2) | K4: Wage Ratio (9) ÷ (7) | L4: Labour share of NDI (8)÷(4) | M4: Labour share of adjusted NDI, (3) x (10) = (8)÷(6) | N4: Unemployed | O4: Employees plus unemployed, (2) + (13) | P4: Participation rate for employees plus unemployed, (14) ÷ (1) | Q4: Wage Ratio for employees plus unemployed | R4: Detrended labour income share, LIS' | S4: Detrended employment rate, EMP'
A5: 1939 | B5: 1206080.4 | C5: 562511.97 | D5: =C5/B5 -> 0.46639675 | E5: 390.16684 | F5: 14.846154 | G5: =E5-F5 -> 375.32069 | H5: =G5*1000000/B5 -> 311.19044 | I5: 215.47126 | J5: =I5*1000000/C5 -> 383.05187 | K5: =J5/H5 -> 1.2309243 | L5: =I5/E5 -> 0.55225417 | M5: =I5/G5 -> 0.57409909 | R5: 0.6033 | S5: 0.4918
A6: 1940 | B6: 1209705.7 | C6: 569196.07 | D6: =C6/B6 -> 0.4705244 | E6: 420.77654 | F6: 14.846154 | G6: =E6-F6 -> 405.93039 | H6: =G6*1000000/B6 -> 335.56127 | I6: 218.35704 | J6: =I6*1000000/C6 -> 383.62359 | K6: =J6/H6 -> 1.1432297 | L6: =I6/E6 -> 0.51893824 | M6: =I6/G6 -> 0.53791745 | R6: 0.5664 | S6: 0.4953
A7: 1941 | B7: 1195968.1 | C7: 575974.69 | D7: =C7/B7 -> 0.48159703 | E7: 458.29756 | F7: 17.130178 | G7: =E7-F7 -> 441.16738 | H7: =G7*1000000/B7 -> 368.87888 | I7: 256.83405 | J7: =I7*1000000/C7 -> 445.91205 | K7: =J7/H7 -> 1.2088305 | L7: =I7/E7 -> 0.56040895 | M7: =I7/G7 -> 0.58216918 | R7: 0.61 | S7: 0.5058
A8: 1942 | B8: 1194909 | C8: 582849.86 | D8: =C8/B8 -> 0.4877776 | E8: 500.50964 | F8: 17.130178 | G8: =E8-F8 -> 483.37946 | H8: =G8*1000000/B8 -> 404.53244 | I8: 280.88218 | J8: =I8*1000000/C8 -> 481.91173 | K8: =J8/H8 -> 1.1912808 | L8: =I8/E8 -> 0.56119235 | M8: =I8/G8 -> 0.58108009 | R8: 0.6082 | S8: 0.5114
A9: 1943 | B9: 1188065.7 | C9: 589823.65 | D9: =C9/B9 -> 0.49645711 | E9: 575.39755 | F9: 18.272189 | G9: =E9-F9 -> 557.12536 | H9: =G9*1000000/B9 -> 468.93482 | I9: 332.82615 | J9: =I9*1000000/C9 -> 564.28078 | K9: =J9/H9 -> 1.2033246 | L9: =I9/E9 -> 0.57842817 | M9: =I9/G9 -> 0.59739903 | R9: 0.6238 | S9: 0.5195
A10: 1944 | B10: 1202261.6 | C10: 596898.2 | D10: =C10/B10 -> 0.49647949 | E10: 641.66962 | F10: 19.414201 | G10: =E10-F10 -> 622.25542 | H10: =G10*1000000/B10 -> 517.57075 | I10: 382.84626 | J10: =I10*1000000/C10 -> 641.3929 | K10: =J10/H10 -> 1.2392371 | L10: =I10/E10 -> 0.59664078 | M10: =I10/G10 -> 0.61525582 | R10: 0.641 | S10: 0.5189
A11: 1945 | B11: 1233616.7 | C11: 604075.71 | D11: =C11/B11 -> 0.48967859 | E11: 646.86926 | F11: 20.556213 | G11: =E11-F11 -> 626.31305 | H11: =G11*1000000/B11 -> 507.70472 | I11: 376.11279 | J11: =I11*1000000/C11 -> 622.62524 | K11: =J11/H11 -> 1.2263531 | L11: =I11/E11 -> 0.58143555 | M11: =I11/G11 -> 0.60051884 | R11: 0.6256 | S11: 0.5115
A12: 1946 | B12: 1282426.6 | C12: 613889.47 | D12: =C12/B12 -> 0.47869366 | E12: 679.00579 | F12: 21.698225 | G12: =E12-F12 -> 657.30756 | H12: =G12*1000000/B12 -> 512.54986 | I12: 387.65589 | J12: =I12*1000000/C12 -> 631.47506 | K12: =J12/H12 -> 1.2320266 | L12: =I12/E12 -> 0.57091692 | M12: =I12/G12 -> 0.58976332 | R12: 0.6141 | S12: 0.4999
A13: 1947 | B13: 1304412.9 | C13: 623647.97 | D13: =C13/B13 -> 0.47810626 | E13: 716.88198 | F13: 22.840237 | G13: =E13-F13 -> 694.04174 | H13: =G13*1000000/B13 -> 532.07213 | I13: 375.15086 | J13: =I13*1000000/C13 -> 601.54266 | K13: =J13/H13 -> 1.130566 | L13: =I13/E13 -> 0.5233091 | M13: =I13/G13 -> 0.54053069 | R13: 0.5642 | S13: 0.4987
A14: 1948 | B14: 1320676 | C14: 628247.08 | D14: =C14/B14 -> 0.47570112 | E14: 806.13264 | F14: 25.12426 | G14: =E14-F14 -> 781.00838 | H14: =G14*1000000/B14 -> 591.37014 | I14: 416.51365 | J14: =I14*1000000/C14 -> 662.97745 | K14: =J14/H14 -> 1.1210871 | L14: =I14/E14 -> 0.51668128 | M14: =I14/G14 -> 0.53330241 | R14: 0.5563 | S14: 0.4957
A15: 1949 | B15: 1336929 | C15: 633828.31 | D15: =C15/B15 -> 0.47409271 | E15: 822.56244 | F15: 26.266272 | G15: =E15-F15 -> 796.29616 | H15: =G15*1000000/B15 -> 595.61589 | I15: 445.37141 | J15: =I15*1000000/C15 -> 702.66885 | K15: =J15/H15 -> 1.1797349 | L15: =I15/E15 -> 0.54144389 | M15: =I15/G15 -> 0.55930372 | R15: 0.5816 | S15: 0.4935
A16: 1950 | B16: 1352234.9 | C16: 643118.08 | D16: =C16/B16 -> 0.47559641 | E16: 927.73082 | F16: 28.550296 | G16: =E16-F16 -> 899.18052 | H16: =G16*1000000/B16 -> 664.95881 | I16: 489.61997 | J16: =I16*1000000/C16 -> 761.32205 | K16: =J16/H16 -> 1.1449161 | L16: =I16/E16 -> 0.52776081 | M16: =I16/G16 -> 0.54451799 | R16: 0.5661 | S16: 0.4944
... A21: 1955 | B21: 1462920.1 | C21: 709579.2 | D21: =C21/B21 -> 0.48504303 | E21: 1553.716 | F21: 45.680473 | G21: =E21-F21 -> 1508.0355 | H21: =G21*1000000/B21 -> 1030.8393 | I21: 852.2658 | J21: =I21*1000000/C21 -> 1201.0862 | K21: =J21/H21 -> 1.1651537 | L21: =I21/E21 -> 0.54853385 | M21: =I21/G21 -> 0.56514969 | R21: 0.5832 | S21: 0.5008
A22: 1956 | B22: 1486026.6 | C22: 724611.72 | D22: =C22/B22 -> 0.48761693 | E22: 1633.4204 | F22: 49.106509 | G22: =E22-F22 -> 1584.3138 | H22: =G22*1000000/B22 -> 1066.141 | I22: 924.4102 | J22: =I22*1000000/C22 -> 1275.7318 | K22: =J22/H22 -> 1.1965883 | L22: =I22/E22 -> 0.56593528 | M22: =I22/G22 -> 0.58347669 | N22: 5270 | O22: =C22+N22 -> 729881.72 | P22: =O22/B22 -> 0.4911633 | Q22: =(I22*1000000/O22)/H22 -> 1.1879485 | R22: 0.6009 | S22: 0.5028
A23: 1957 | B23: 1515172 | C23: 745510.46 | D23: =C23/B23 -> 0.49203026 | E23: 1717.9943 | F23: 52.532544 | G23: =E23-F23 -> 1665.4618 | H23: =G23*1000000/B23 -> 1099.1899 | I23: 975.39224 | J23: =I23*1000000/C23 -> 1308.3549 | K23: =J23/H23 -> 1.1902901 | L23: =I23/E23 -> 0.56775057 | M23: =I23/G23 -> 0.58565874 | N23: 5154.25 | O23: =C23+N23 -> 750664.71 | P23: =O23/B23 -> 0.49543202 | Q23: =(I23*1000000/O23)/H23 -> 1.1821173 | R23: 0.6024 | S23: 0.5066
A24: 1958 | B24: 1544510.8 | C24: 758842.5 | D24: =C24/B24 -> 0.49131576 | E24: 1834.1442 | F24: 54.816568 | G24: =E24-F24 -> 1779.3277 | H24: =G24*1000000/B24 -> 1152.0331 | I24: 1052.3463 | J24: =I24*1000000/C24 -> 1386.7782 | K24: =J24/H24 -> 1.2037659 | L24: =I24/E24 -> 0.57375328 | M24: =I24/G24 -> 0.59142916 | N24: 4950 | O24: =C24+N24 -> 763792.5 | P24: =O24/B24 -> 0.49452065 | Q24: =(I24*1000000/O24)/H24 -> 1.1959645 | R24: 0.6074 | S24: 0.5052
A25: 1959 | B25: 1567240.5 | C25: 786593.19 | D25: =C25/B25 -> 0.50189691 | E25: 1894.9528 | F25: 57.100592 | G25: =E25-F25 -> 1837.8522 | H25: =G25*1000000/B25 -> 1172.6676 | I25: 1096.5948 | J25: =I25*1000000/C25 -> 1394.1067 | K25: =J25/H25 -> 1.1888337 | L25: =I25/E25 -> 0.57869243 | M25: =I25/G25 -> 0.59667194 | N25: 5243 | O25: =C25+N25 -> 791836.19 | P25: =O25/B25 -> 0.50524228 | Q25: =(I25*1000000/O25)/H25 -> 1.180962 | R25: 0.612 | S25: 0.5152
A26: 1960 | B26: 1585672.8 | C26: 810681.2 | D26: =C26/B26 -> 0.51125377 | E26: 2036.6175 | F26: 58.242604 | G26: =E26-F26 -> 1978.3749 | H26: =G26*1000000/B26 -> 1247.6565 | I26: 1161.0438 | J26: =I26*1000000/C26 -> 1432.183 | K26: =J26/H26 -> 1.1478985 | L26: =I26/E26 -> 0.57008437 | M26: =I26/G26 -> 0.58686743 | N26: 5269.25 | O26: =C26+N26 -> 815950.45 | P26: =O26/B26 -> 0.51457681 | Q26: =(I26*1000000/O26)/H26 -> 1.1404856 | R26: 0.6015 | S26: 0.524
A27: 1961 | B27: 1610744.7 | C27: 839427.27 | D27: =C27/B27 -> 0.52114233 | E27: 2214.8441 | F27: 58.242604 | G27: =E27-F27 -> 2156.6015 | H27: =G27*1000000/B27 -> 1338.8847 | I27: 1254.3506 | J27: =I27*1000000/C27 -> 1494.2933 | K27: =J27/H27 -> 1.1160732 | L27: =I27/E27 -> 0.56633808 | M27: =I27/G27 -> 0.58163298 | N27: 4492.75 | O27: =C27+N27 -> 843920.02 | P27: =O27/B27 -> 0.52393157 | Q27: =(I27*1000000/O27)/H27 -> 1.1101316 | R27: 0.5955 | S27: 0.5332
A28: 1962 | B28: 1646509.4 | C28: 855754.55 | D28: =C28/B28 -> 0.51973863 | E28: 2281.0656 | F28: 68.52071 | G28: =E28-F28 -> 2212.5449 | H28: =G28*1000000/B28 -> 1343.7791 | I28: 1339 | J28: =I28*1000000/C28 -> 1564.701 | K28: =J28/H28 -> 1.1644035 | L28: =I28/E28 -> 0.58700636 | M28: =I28/G28 -> 0.60518547 | N28: 4474 | O28: =C28+N28 -> 860228.55 | P28: =O28/B28 -> 0.5224559 | Q28: =(I28*1000000/O28)/H28 -> 1.1583475 | R28: 0.6184 | S28: 0.5312
A29: 1963 | B29: 1681989 | C29: 874500.16 | D29: =C29/B29 -> 0.51992027 | E29: 2498.5902 | F29: 92.502959 | G29: =E29-F29 -> 2406.0872 | H29: =G29*1000000/B29 -> 1430.5012 | I29: 1419 | J29: =I29*1000000/C29 -> 1622.6412 | K29: =J29/H29 -> 1.1343166 | L29: =I29/E29 -> 0.56792027 | M29: =I29/G29 -> 0.58975419 | N29: 5160.75 | O29: =C29+N29 -> 879660.91 | P29: =O29/B29 -> 0.52298852 | Q29: =(I29*1000000/O29)/H29 -> 1.1276618 | R29: 0.6023 | S29: 0.5308
A30: 1964 | B30: 1719423.7 | C30: 908070.26 | D30: =C30/B30 -> 0.52812477 | E30: 2727.9454 | F30: 98.213018 | G30: =E30-F30 -> 2629.7323 | H30: =G30*1000000/B30 -> 1529.4266 | I30: 1525 | J30: =I30*1000000/C30 -> 1679.3855 | K30: =J30/H30 -> 1.0980491 | L30: =I30/E30 -> 0.55902879 | M30: =I30/G30 -> 0.57990693 | N30: 5052 | O30: =C30+N30 -> 913122.26 | P30: =O30/B30 -> 0.53106296 | Q30: =(I30*1000000/O30)/H30 -> 1.091974 | R30: 0.5917 | S30: 0.5384
A31: 1965 | B31: 1753844.2 | C31: 941469.94 | D31: =C31/B31 -> 0.53680364 | E31: 2995.8087 | F31: 109.63314 | G31: =E31-F31 -> 2886.1756 | H31: =G31*1000000/B31 -> 1645.6283 | I31: 1689 | J31: =I31*1000000/C31 -> 1794.0031 | K31: =J31/H31 -> 1.090163 | L31: =I31/E31 -> 0.56378766 | M31: =I31/G31 -> 0.58520348 | N31: 5247.5 | O31: =C31+N31 -> 946717.44 | P31: =O31/B31 -> 0.53979564 | Q31: =(I31*1000000/O31)/H31 -> 1.0841204 | R31: 0.5963 | S31: 0.5465
A32: 1966 | B32: 1790026.4 | C32: 984015.52 | D32: =C32/B32 -> 0.54972123 | E32: 3231.3497 | F32: 124.47929 | G32: =E32-F32 -> 3106.8704 | H32: =G32*1000000/B32 -> 1735.6562 | I32: 1854 | J32: =I32*1000000/C32 -> 1884.1166 | K32: =J32/H32 -> 1.0855356 | L32: =I32/E32 -> 0.57375405 | M32: =I32/G32 -> 0.59674197 | N32: 5464 | O32: =C32+N32 -> 989479.52 | P32: =O32/B32 -> 0.5527737 | Q32: =(I32*1000000/O32)/H32 -> 1.0795412 | R32: 0.6072 | S32: 0.5588
A33: 1967 | B33: 1823846 | C33: 1004523 | D33: =C33/B33 -> 0.55077185 | E33: 3313.0929 | F33: 130.18935 | G33: =E33-F33 -> 3182.9035 | H33: =G33*1000000/B33 -> 1745.1602 | I33: 2003 | J33: =I33*1000000/C33 -> 1993.9811 | K33: =J33/H33 -> 1.1425777 | L33: =I33/E33 -> 0.60457103 | M33: =I33/G33 -> 0.62929962 | N33: 5947.25 | O33: =C33+N33 -> 1010470.3 | P33: =O33/B33 -> 0.55403268 | Q33: =(I33*1000000/O33)/H33 -> 1.1358529 | R33: 0.639 | S33: 0.5592
... A89: 2023 | B89: 4108900 | C89: 2393533.2 | D89: =C89/B89 -> 0.58252408 | E89: 292186 | F89: 17264 | G89: =E89-F89 -> 274922 | H89: =G89*1000000/B89 -> 66908.905 | I89: 173313 | J89: =I89*1000000/C89 -> 72408.856 | K89: =J89/H89 -> 1.0822006 | L89: =I89/E89 -> 0.59315984 | M89: =I89/G89 -> 0.6304079 | N89: 99100 | O89: =C89+N89 -> 2492633.2 | P89: =O89/B89 -> 0.60664246 | Q89: =(I89*1000000/O89)/H89 -> 1.0391754 | R89: 0.6012 | S89: 0.5571

Sheet Table 2
A1: Table 2: Components of the Wage Ratio, in real terms (2020 dollar values)
A2: Click for table sources
C3: Compensation of employees | G3: Self-employed income | J3: Net adjusted surplus excl mixed income | M3: Adjusted Net Domestic Income | P3: Wage Ratio components in 2020 dollars
B4: 1 | C4: 2 | D4: 3 | E4: 4 | F4: 5 | G4: 6 | H4: 7 | I4: 8 | J4: 9 | K4: 10 | L4: 11 | M4: 12 | N4: 13 | O4: 14 | P4: 15 | Q4: 16 | R4: 17
B5: GDP deflator 2020=1000 | C5: Nominal $ million | D5: Real in 2020 $million | E5: Real per employee | F5: Real per adult | G5: Nominal $ million | H5: Real in 2020 $million | I5: Real per adult | J5: Nominal $ million | K5: Real in 2020 $million | L5: Real per adult | M5: Nominal $ million | N5: Real in 2020 dollars | O5: Per adult | P5: Real wage per employee (numerator) | Q5: Adjusted real NDI per adult (denominator) | R5: Wage Ratio
A6: 1939 | B6: 16.789302 | C6: ='Table 1'!I5 -> 215.47126 | D6: =C6*$B$87/B6 -> 12833.843 | E6: =D6*1000000/'Table 1'!C5 -> 22815.235 | F6: =D6*1000000/'Table 1'!B5 -> 10640.951 | G6: 99.673731 | H6: =G6*$B$87/B6 -> 5936.7405 | I6: =H6*1000000/'Table 1'!B5 -> 4922.3423 | J6: 60.175692 | K6: =J6*$B$87/B6 -> 3584.1687 | L6: =K6*1000000/'Table 1'!B5 -> 2971.7494 | M6: ='Table 1'!G5 -> 375.32069 | N6: =M6*$B$87/B6 -> 22354.752 | O6: =N6*1000000/'Table 1'!B5 -> 18535.043 | P6: =E6 -> 22815.235 | Q6: =O6 -> 18535.043 | R6: =P6/Q6 -> 1.2309243
A7: 1940 | B7: 17.118811 | C7: ='Table 1'!I6 -> 218.35704 | D7: =C7*$B$87/B7 -> 12755.386 | E7: =D7*1000000/'Table 1'!C6 -> 22409.477 | F7: =D7*1000000/'Table 1'!B6 -> 10544.206 | G7: 105.90334 | H7: =G7*$B$87/B7 -> 6186.3724 | I7: =H7*1000000/'Table 1'!B6 -> 5113.9482 | J7: 81.67001 | K7: =J7*$B$87/B7 -> 4770.7759 | L7: =K7*1000000/'Table 1'!B6 -> 3943.7491 | M7: ='Table 1'!G6 -> 405.93039 | N7: =M7*$B$87/B7 -> 23712.534 | O7: =N7*1000000/'Table 1'!B6 -> 19601.903 | P7: =E7 -> 22409.477 | Q7: =O7 -> 19601.903 | R7: =P7/Q7 -> 1.1432297
A8: 1941 | B8: 17.79237 | C8: ='Table 1'!I7 -> 256.83405 | D8: =C8*$B$87/B8 -> 14435.067 | E8: =D8*1000000/'Table 1'!C7 -> 25061.982 | F8: =D8*1000000/'Table 1'!B7 -> 12069.776 | G8: 102.34356 | H8: =G8*$B$87/B8 -> 5752.1041 | I8: =H8*1000000/'Table 1'!B7 -> 4809.5799 | J8: 81.989765 | K8: =J8*$B$87/B8 -> 4608.1419 | L8: =K8*1000000/'Table 1'!B7 -> 3853.0642 | M8: ='Table 1'!G7 -> 441.16738 | N8: =M8*$B$87/B8 -> 24795.313 | O8: =N8*1000000/'Table 1'!B7 -> 20732.42 | P8: =E8 -> 25061.982 | Q8: =O8 -> 20732.42 | R8: =P8/Q8 -> 1.2088305
A9: 1942 | B9: 18.239706 | C9: ='Table 1'!I8 -> 280.88218 | D9: =C9*$B$87/B9 -> 15399.49 | E9: =D9*1000000/'Table 1'!C8 -> 26421.025 | F9: =D9*1000000/'Table 1'!B8 -> 12887.584 | G9: 106.79328 | H9: =G9*$B$87/B9 -> 5854.9892 | I9: =H9*1000000/'Table 1'!B8 -> 4899.9456 | J9: 95.703996 | K9: =J9*$B$87/B9 -> 5247.0141 | L9: =K9*1000000/'Table 1'!B8 -> 4391.1411 | M9: ='Table 1'!G8 -> 483.37946 | N9: =M9*$B$87/B9 -> 26501.494 | O9: =N9*1000000/'Table 1'!B8 -> 22178.671 | P9: =E9 -> 26421.025 | Q9: =O9 -> 22178.671 | R9: =P9/Q9 -> 1.1912808
A10: 1943 | B10: 18.639245 | C10: ='Table 1'!I9 -> 332.82615 | D10: =C10*$B$87/B10 -> 17856.203 | E10: =D10*1000000/'Table 1'!C9 -> 30273.8 | F10: =D10*1000000/'Table 1'!B9 -> 15029.643 | G10: 114.80278 | H10: =G10*$B$87/B10 -> 6159.1968 | I10: =H10*1000000/'Table 1'!B9 -> 5184.2226 | J10: 109.49643 | K10: =J10*$B$87/B10 -> 5874.5097 | L10: =K10*1000000/'Table 1'!B9 -> 4944.6002 | M10: ='Table 1'!G9 -> 557.12536 | N10: =M10*$B$87/B10 -> 29889.91 | O10: =N10*1000000/'Table 1'!B9 -> 25158.466 | P10: =E10 -> 30273.8 | Q10: =O10 -> 25158.466 | R10: =P10/Q10 -> 1.2033246
A11: 1944 | B11: 19.161191 | C11: ='Table 1'!I10 -> 382.84626 | D11: =C11*$B$87/B11 -> 19980.295 | E11: =D11*1000000/'Table 1'!C10 -> 33473.539 | F11: =D11*1000000/'Table 1'!B10 -> 16618.926 | G11: 119.2525 | H11: =G11*$B$87/B11 -> 6223.6474 | I11: =H11*1000000/'Table 1'!B10 -> 5176.6169 | J11: 120.15665 | K11: =J11*$B$87/B11 -> 6270.8341 | L11: =K11*1000000/'Table 1'!B10 -> 5215.8651 | M11: ='Table 1'!G10 -> 622.25542 | N11: =M11*$B$87/B11 -> 32474.777 | O11: =N11*1000000/'Table 1'!B10 -> 27011.408 | P11: =E11 -> 33473.539 | Q11: =O11 -> 27011.408 | R11: =P11/Q11 -> 1.2392371
A12: 1945 | B12: 19.763101 | C12: ='Table 1'!I11 -> 376.11279 | D12: =C12*$B$87/B12 -> 19031.061 | E12: =D12*1000000/'Table 1'!C11 -> 31504.43 | F12: =D12*1000000/'Table 1'!B11 -> 15427.045 | G12: 129.04188 | H12: =G12*$B$87/B12 -> 6529.4349 | I12: =H12*1000000/'Table 1'!B11 -> 5292.9201 | J12: 121.15838 | K12: =J12*$B$87/B12 -> 6130.5346 | L12: =K12*1000000/'Table 1'!B11 -> 4969.5617 | M12: ='Table 1'!G11 -> 626.31305 | N12: =M12*$B$87/B12 -> 31691.03 | O12: =N12*1000000/'Table 1'!B11 -> 25689.527 | P12: =E12 -> 31504.43 | Q12: =O12 -> 25689.527 | R12: =P12/Q12 -> 1.2263531
A13: 1946 | B13: 20.141068 | C13: ='Table 1'!I12 -> 387.65589 | D13: =C13*$B$87/B13 -> 19247.037 | E13: =D13*1000000/'Table 1'!C12 -> 31352.61 | F13: =D13*1000000/'Table 1'!B12 -> 15008.296 | G13: 149.5106 | H13: =G13*$B$87/B13 -> 7423.1711 | I13: =H13*1000000/'Table 1'!B12 -> 5788.379 | J13: 120.14108 | K13: =J13*$B$87/B13 -> 5964.9803 | L13: =K13*1000000/'Table 1'!B12 -> 4651.3231 | M13: ='Table 1'!G12 -> 657.30756 | N13: =M13*$B$87/B13 -> 32635.189 | O13: =N13*1000000/'Table 1'!B12 -> 25447.998 | P13: =E13 -> 31352.61 | Q13: =O13 -> 25447.998 | R13: =P13/Q13 -> 1.2320266
A14: 1947 | B14: 21.292509 | C14: ='Table 1'!I13 -> 375.15086 | D14: =C14*$B$87/B14 -> 17618.913 | E14: =D14*1000000/'Table 1'!C13 -> 28251.375 | F14: =D14*1000000/'Table 1'!B13 -> 13507.159 | G14: 174.42903 | H14: =G14*$B$87/B14 -> 8192.0374 | I14: =H14*1000000/'Table 1'!B13 -> 6280.2487 | J14: 144.46185 | K14: =J14*$B$87/B14 -> 6784.6326 | L14: =K14*1000000/'Table 1'!B13 -> 5201.2922 | M14: ='Table 1'!G13 -> 694.04174 | N14: =M14*$B$87/B14 -> 32595.583 | O14: =N14*1000000/'Table 1'!B13 -> 24988.7 | P14: =E14 -> 28251.375 | Q14: =O14 -> 24988.7 | R14: =P14/Q14 -> 1.130566
A15: 1948 | B15: 23.395443 | C15: ='Table 1'!I14 -> 416.51365 | D15: =C15*$B$87/B15 -> 17803.196 | E15: =D15*1000000/'Table 1'!C14 -> 28337.889 | F15: =D15*1000000/'Table 1'!B14 -> 13480.366 | G15: 207.35696 | H15: =G15*$B$87/B15 -> 8863.1347 | I15: =H15*1000000/'Table 1'!B14 -> 6711.0588 | J15: 157.13777 | K15: =J15*$B$87/B15 -> 6716.5976 | L15: =K15*1000000/'Table 1'!B14 -> 5085.7268 | M15: ='Table 1'!G14 -> 781.00838 | N15: =M15*$B$87/B15 -> 33382.928 | O15: =N15*1000000/'Table 1'!B14 -> 25277.151 | P15: =E15 -> 28337.889 | Q15: =O15 -> 25277.151 | R15: =P15/Q15 -> 1.1210871
A16: 1949 | B16: 24.979362 | C16: ='Table 1'!I15 -> 445.37141 | D16: =C16*$B$87/B16 -> 17829.575 | E16: =D16*1000000/'Table 1'!C15 -> 28129.976 | F16: =D16*1000000/'Table 1'!B15 -> 13336.217 | G16: 218.03629 | H16: =G16*$B$87/B16 -> 8728.6572 | I16: =H16*1000000/'Table 1'!B15 -> 6528.886 | J16: 132.88847 | K16: =J16*$B$87/B16 -> 5319.9304 | L16: =K16*1000000/'Table 1'!B15 -> 3979.2168 | M16: ='Table 1'!G15 -> 796.29616 | N16: =M16*$B$87/B16 -> 31878.162 | O16: =N16*1000000/'Table 1'!B15 -> 23844.319 | P16: =E16 -> 28129.976 | Q16: =O16 -> 23844.319 | R16: =P16/Q16 -> 1.1797349
A17: 1950 | B17: 26.608223 | C17: ='Table 1'!I16 -> 489.61997 | D17: =C17*$B$87/B17 -> 18401.077 | E17: =D17*1000000/'Table 1'!C16 -> 28612.285 | F17: =D17*1000000/'Table 1'!B16 -> 13607.9 | G17: 262.53349 | H17: =G17*$B$87/B17 -> 9866.6299 | I17: =H17*1000000/'Table 1'!B16 -> 7296.5354 | J17: 147.02706 | K17: =J17*$B$87/B17 -> 5525.6251 | L17: =K17*1000000/'Table 1'!B16 -> 4086.2908 | M17: ='Table 1'!G16 -> 899.18052 | N17: =M17*$B$87/B17 -> 33793.332 | O17: =N17*1000000/'Table 1'!B16 -> 24990.726 | P17: =E17 -> 28612.285 | Q17: =O17 -> 24990.726 | R17: =P17/Q17 -> 1.1449161
... A90: 2023 | B90: 1126.1548 | C90: ='Table 1'!I89 -> 173313 | D90: =C90*$B$87/B90 -> 153898.02 | E90: =D90*1000000/'Table 1'!C89 -> 64297.425 | F90: =D90*1000000/'Table 1'!B89 -> 37454.798 | G90: 39819 | H90: =G90*$B$87/B90 -> 35358.371 | I90: =H90*1000000/'Table 1'!B89 -> 8605.313 | J90: 61790 | K90: =J90*$B$87/B90 -> 54868.121 | L90: =K90*1000000/'Table 1'!B89 -> 13353.482 | M90: ='Table 1'!G89 -> 274922 | N90: =M90*$B$87/B90 -> 244124.51 | O90: =N90*1000000/'Table 1'!B89 -> 59413.593 | P90: =E90 -> 64297.425 | Q90: =O90 -> 59413.593 | R90: =P90/Q90 -> 1.0822006

Sheet Table 3
A1: Table 3a: Wage Ratios by gender Part 1: Employed workers | Q1: Table 3b: Wage Ratios by gender Part 2: Employed plus unemployed workers
A2: Click for table sources
B3: 1 | C3: 2 | D3: 3 | E3: 4 | F3: 5 | G3: 6 | H3: 7 | I3: 8 | J3: 9 | K3: 10 | L3: 11 | M3: 12 | N3: 13 | O3: 14 | P3: 15 | R3: 16 | S3: 17 | T3: 18 | U3: 19 | V3: 20 | W3: 21 | X3: 22 | Y3: 23 | Z3: 24 | AA3: 25
A4: Years ended March | B4: Total compensation of employees $m | C4: Male percent of total earnings | D4: Female percent of total earnings | E4: Estimated compensation of male employees $m (2)x(1) | F4: Estimated compensation of female employees (3)x(1) | G4: Employed wage and salary workers | H4: Male percent of total employment | I4: Female percent of total employment | J4: Estimated male employment (7)x(6) | K4: Estimated female employment (8)x(6) | L4: Male compensation per worker $ (4)÷(9) | M4: Female compensation per worker $ (5) ÷(10) | N4: Adjusted NDI per adult (age 16+) | O4: Male Wage Ratio (11)÷(13) | P4: Female Wage Ratio (12)÷(13) | R4: Total unemployed | S4: Male unemployed | T4: Female unemployed | U4: Total male employed plus unemployed | V4: Total female employed plus unemployed | W4: Total employed plus unemployed | X4: Male Wage Ratio including unemployed | Y4: Female Wage Ratio including unemployed | Z4: Total Wage Ratio including unemployed | AA4: Wage gap in annual compensation of employees [1-(12)/(11)]
A5: 1974 | B5: ='Table 1'!I40 -> 4481 | C5: 0.74841628 | D5: 0.25158372 | E5: =$B5*C5 -> 3353.6533 | F5: =$B5*D5 -> 1127.3467 | G5: ='Table 1'!C40 -> 1209935.1 | H5: 0.63109993 | I5: 0.36890007 | J5: =H5*$G5 -> 763589.95 | K5: =I5*$G5 -> 446345.14 | L5: =E5*1000000/J5 -> 4391.9558 | M5: =F5*1000000/K5 -> 2525.7285 | N5: ='Table 1'!H40 -> 3462.8963 | O5: =L5/$N5 -> 1.2682897 | P5: =M5/$N5 -> 0.7293688 | Q5: 1974 | R5: 13609 | S5: 7995.5 | T5: 5614 | U5: =J5+S5 -> 771585.45 | V5: =K5+T5 -> 451959.14 | W5: =G5+R5 -> 1223544.1 | X5: =(E5*1000000/U5)/$N5 -> 1.2551472 | Y5: =(F5*1000000/V5)/$N5 -> 0.72030897 | Z5: ='Table 1'!Q40 -> 1.0575863 | AA5: =1-M5/L5 -> 0.42491941
A6: 1975 | B6: ='Table 1'!I41 -> 5397 | C6: 0.73741015 | D6: 0.26258985 | E6: =$B6*C6 -> 3979.8026 | F6: =$B6*D6 -> 1417.1974 | G6: ='Table 1'!C41 -> 1230099.7 | H6: 0.62341182 | I6: 0.37658818 | J6: =H6*$G6 -> 766858.7 | K6: =I6*$G6 -> 463241.02 | L6: =E6*1000000/J6 -> 5189.7469 | M6: =F6*1000000/K6 -> 3059.3089 | N6: ='Table 1'!H41 -> 3663.0775 | O6: =L6/$N6 -> 1.4167724 | P6: =M6/$N6 -> 0.83517451 | Q6: 1975 | R6: 13991.5 | S6: 8306.5 | T6: 5685 | U6: =J6+S6 -> 775165.2 | V6: =K6+T6 -> 468926.02 | W6: =G6+R6 -> 1244091.2 | X6: =(E6*1000000/U6)/$N6 -> 1.4015905 | Y6: =(F6*1000000/V6)/$N6 -> 0.82504931 | Z6: ='Table 1'!Q41 -> 1.1842792 | AA6: =1-M6/L6 -> 0.41050903
A7: 1976 | B7: ='Table 1'!I42 -> 6230 | C7: 0.72776363 | D7: 0.27223637 | E7: =$B7*C7 -> 4533.9674 | F7: =$B7*D7 -> 1696.0326 | G7: ='Table 1'!C42 -> 1246991.7 | H7: 0.62078805 | I7: 0.37921195 | J7: =H7*$G7 -> 774117.55 | K7: =I7*$G7 -> 472874.17 | L7: =E7*1000000/J7 -> 5856.9495 | M7: =F7*1000000/K7 -> 3586.6468 | N7: ='Table 1'!H42 -> 3899.3581 | O7: =L7/$N7 -> 1.5020291 | P7: =M7/$N7 -> 0.91980441 | Q7: 1976 | R7: 16001.5 | S7: 9679 | T7: 6322.75 | U7: =J7+S7 -> 783796.55 | V7: =K7+T7 -> 479196.92 | W7: =G7+R7 -> 1262993.2 | X7: =(E7*1000000/U7)/$N7 -> 1.4834808 | Y7: =(F7*1000000/V7)/$N7 -> 0.90766807 | Z7: ='Table 1'!Q42 -> 1.2650098 | AA7: =1-M7/L7 -> 0.38762546
A8: 1977 | B8: ='Table 1'!I43 -> 7015 | C8: 0.71877074 | D8: 0.28122926 | E8: =$B8*C8 -> 5042.1768 | F8: =$B8*D8 -> 1972.8232 | G8: ='Table 1'!C43 -> 1263467.6 | H8: 0.61396656 | I8: 0.38603344 | J8: =H8*$G8 -> 775726.85 | K8: =I8*$G8 -> 487740.73 | L8: =E8*1000000/J8 -> 6499.9384 | M8: =F8*1000000/K8 -> 4044.8195 | N8: ='Table 1'!H43 -> 4660.5786 | O8: =L8/$N8 -> 1.3946634 | P8: =M8/$N8 -> 0.86787926 | Q8: 1977 | R8: 13164.25 | S8: 8019.5 | T8: 5145 | U8: =J8+S8 -> 783746.35 | V8: =K8+T8 -> 492885.73 | W8: =G8+R8 -> 1276631.8 | X8: =(E8*1000000/U8)/$N8 -> 1.3803928 | Y8: =(F8*1000000/V8)/$N8 -> 0.85881988 | Z8: ='Table 1'!Q43 -> 1.1790227 | AA8: =1-M8/L8 -> 0.37771417
A9: 1978 | B9: ='Table 1'!I44 -> 8050 | C9: 0.71643743 | D9: 0.28356257 | E9: =$B9*C9 -> 5767.3213 | F9: =$B9*D9 -> 2282.6787 | G9: ='Table 1'!C44 -> 1264152 | H9: 0.60985664 | I9: 0.39014336 | J9: =H9*$G9 -> 770951.48 | K9: =I9*$G9 -> 493200.5 | L9: =E9*1000000/J9 -> 7480.7837 | M9: =F9*1000000/K9 -> 4628.2977 | N9: ='Table 1'!H44 -> 5071.1173 | O9: =L9/$N9 -> 1.4751747 | P9: =M9/$N9 -> 0.91267809 | Q9: 1978 | R9: 14735.25 | S9: 9436.25 | T9: 5299.25 | U9: =J9+S9 -> 780387.73 | V9: =K9+T9 -> 498499.75 | W9: =G9+R9 -> 1278887.2 | X9: =(E9*1000000/U9)/$N9 -> 1.4573372 | Y9: =(F9*1000000/V9)/$N9 -> 0.90297596 | Z9: ='Table 1'!Q44 -> 1.241252 | AA9: =1-M9/L9 -> 0.38130845
A10: 1979 | B10: ='Table 1'!I45 -> 9352 | C10: 0.71087443 | D10: 0.28912557 | E10: =$B10*C10 -> 6648.0977 | F10: =$B10*D10 -> 2703.9023 | G10: ='Table 1'!C45 -> 1287096.1 | H10: 0.60302702 | I10: 0.39697298 | J10: =H10*$G10 -> 776153.72 | K10: =I10*$G10 -> 510942.36 | L10: =E10*1000000/J10 -> 8565.4395 | M10: =F10*1000000/K10 -> 5291.9908 | N10: ='Table 1'!H45 -> 5786.4148 | O10: =L10/$N10 -> 1.4802671 | P10: =M10/$N10 -> 0.91455434 | Q10: 1979 | R10: 21924.5 | S10: 14051.75 | T10: 7872 | U10: =J10+S10 -> 790205.47 | V10: =K10+T10 -> 518814.36 | W10: =G10+R10 -> 1309020.6 | X10: =(E10*1000000/U10)/$N10 -> 1.4539444 | Y10: =(F10*1000000/V10)/$N10 -> 0.90067776 | Z10: ='Table 1'!Q45 -> 1.2346631 | AA10: =1-M10/L10 -> 0.38216937
A11: 1980 | B11: ='Table 1'!I46 -> 10906 | C11: 0.70533368 | D11: 0.29466632 | E11: =$B11*C11 -> 7692.3692 | F11: =$B11*D11 -> 3213.6308 | G11: ='Table 1'!C46 -> 1310767.5 | H11: 0.59574437 | I11: 0.40425563 | J11: =H11*$G11 -> 780882.33 | K11: =I11*$G11 -> 529885.12 | L11: =E11*1000000/J11 -> 9850.8685 | M11: =F11*1000000/K11 -> 6064.7689 | N11: ='Table 1'!H46 -> 6655.504 | O11: =L11/$N11 -> 1.4801086 | P11: =M11/$N11 -> 0.91124112 | Q11: 1980 | R11: 20168.25 | S11: 13672.5 | T11: 6495.75 | U11: =J11+S11 -> 794554.83 | V11: =K11+T11 -> 536380.87 | W11: =G11+R11 -> 1330935.7 | X11: =(E11*1000000/U11)/$N11 -> 1.4546392 | Y11: =(F11*1000000/V11)/$N11 -> 0.90020569 | Z11: ='Table 1'!Q46 -> 1.2311968 | AA11: =1-M11/L11 -> 0.3843417
A12: 1981 | B12: ='Table 1'!I47 -> 12979 | C12: 0.70346503 | D12: 0.29653497 | E12: =$B12*C12 -> 9130.2726 | F12: =$B12*D12 -> 3848.7274 | G12: ='Table 1'!C47 -> 1309918.2 | H12: 0.5921793 | I12: 0.4078207 | J12: =H12*$G12 -> 775706.47 | K12: =I12*$G12 -> 534211.78 | L12: =E12*1000000/J12 -> 11770.267 | M12: =F12*1000000/K12 -> 7204.4975 | N12: ='Table 1'!H47 -> 7718.6708 | O12: =L12/$N12 -> 1.5249086 | P12: =M12/$N12 -> 0.93338577 | Q12: 1981 | R12: 32286.75 | S12: 20837.25 | T12: 11449.25 | U12: =J12+S12 -> 796543.72 | V12: =K12+T12 -> 545661.03 | W12: =G12+R12 -> 1342205 | X12: =(E12*1000000/U12)/$N12 -> 1.4850176 | Y12: =(F12*1000000/V12)/$N12 -> 0.91380115 | Z12: ='Table 1'!Q47 -> 1.2527946 | AA12: =1-M12/L12 -> 0.38790707
A13: 1982 | B13: ='Table 1'!I48 -> 15653 | C13: 0.700775 | D13: 0.299225 | E13: =$B13*C13 -> 10969.231 | F13: =$B13*D13 -> 4683.769 | G13: ='Table 1'!C48 -> 1309193.4 | H13: 0.58792443 | I13: 0.41207557 | J13: =H13*$G13 -> 769706.8 | K13: =I13*$G13 -> 539486.63 | L13: =E13*1000000/J13 -> 14251.181 | M13: =F13*1000000/K13 -> 8681.9 | N13: ='Table 1'!H48 -> 9332.3584 | O13: =L13/$N13 -> 1.5270718 | P13: =M13/$N13 -> 0.93030075 | Q13: 1982 | R13: 39171 | S13: 22924.75 | T13: 16246.5 | U13: =J13+S13 -> 792631.55 | V13: =K13+T13 -> 555733.13 | W13: =G13+R13 -> 1348364.4 | X13: =(E13*1000000/U13)/$N13 -> 1.4829053 | Y13: =(F13*1000000/V13)/$N13 -> 0.90310401 | Z13: ='Table 1'!Q48 -> 1.2439384 | AA13: =1-M13/L13 -> 0.39079436
A14: 1983 | B14: ='Table 1'!I49 -> 17160 | C14: 0.69726783 | D14: 0.30273217 | E14: =$B14*C14 -> 11965.116 | F14: =$B14*D14 -> 5194.8841 | G14: ='Table 1'!C49 -> 1290267.6 | H14: 0.58299859 | I14: 0.41700141 | J14: =H14*$G14 -> 752224.2 | K14: =I14*$G14 -> 538043.41 | L14: =E14*1000000/J14 -> 15906.316 | M14: =F14*1000000/K14 -> 9655.1394 | N14: ='Table 1'!H49 -> 10236.139 | O14: =L14/$N14 -> 1.553937 | P14: =M14/$N14 -> 0.94324031 | Q14: 1983 | R14: 51394.25 | S14: 29201.25 | T14: 22193 | U14: =J14+S14 -> 781425.45 | V14: =K14+T14 -> 560236.41 | W14: =G14+R14 -> 1341661.9 | X14: =(E14*1000000/U14)/$N14 -> 1.4958676 | Y14: =(F14*1000000/V14)/$N14 -> 0.90587513 | Z14: ='Table 1'!Q49 -> 1.249505 | AA14: =1-M14/L14 -> 0.39299965
A15: 1984 | B15: ='Table 1'!I50 -> 17504 | C15: 0.69285585 | D15: 0.30714415 | E15: =$B15*C15 -> 12127.749 | F15: =$B15*D15 -> 5376.2512 | G15: ='Table 1'!C50 -> 1294489.8 | H15: 0.58074393 | I15: 0.41925607 | J15: =H15*$G15 -> 751767.13 | K15: =I15*$G15 -> 542722.72 | L15: =E15*1000000/J15 -> 16132.321 | M15: =F15*1000000/K15 -> 9906.0735 | N15: ='Table 1'!H50 -> 11193.175 | O15: =L15/$N15 -> 1.4412641 | P15: =M15/$N15 -> 0.88501016 | Q15: 1984 | R15: 74237.75 | S15: 42801.5 | T15: 31436 | U15: =J15+S15 -> 794568.63 | V15: =K15+T15 -> 574158.72 | W15: =G15+R15 -> 1368727.6 | X15: =(E15*1000000/U15)/$N15 -> 1.3636267 | Y15: =(F15*1000000/V15)/$N15 -> 0.8365546 | Z15: ='Table 1'!Q50 -> 1.1425284 | AA15: =1-M15/L15 -> 0.38594866
A16: 1985 | B16: ='Table 1'!I51 -> 19168 | C16: 0.68603115 | D16: 0.31396885 | E16: =$B16*C16 -> 13149.845 | F16: =$B16*D16 -> 6018.155 | G16: ='Table 1'!C51 -> 1335342.8 | H16: 0.57202523 | I16: 0.42797477 | J16: =H16*$G16 -> 763849.78 | K16: =I16*$G16 -> 571493.04 | L16: =E16*1000000/J16 -> 17215.224 | M16: =F16*1000000/K16 -> 10530.583 | N16: ='Table 1'!H51 -> 12287.707 | O16: =L16/$N16 -> 1.4010119 | P16: =M16/$N16 -> 0.8570015 | Q16: 1985 | R16: 64083 | S16: 33396 | T16: 30687.25 | U16: =J16+S16 -> 797245.78 | V16: =K16+T16 -> 602180.29 | W16: =G16+R16 -> 1399425.8 | X16: =(E16*1000000/U16)/$N16 -> 1.3423247 | Y16: =(F16*1000000/V16)/$N16 -> 0.8133285 | Z16: ='Table 1'!Q51 -> 1.1146951 | AA16: =1-M16/L16 -> 0.38829822
... A19: 1988 | B19: ='Table 1'!I54 -> 30144 | C19: 0.65680234 | D19: 0.34319766 | E19: =$B19*C19 -> 19798.65 | F19: =$B19*D19 -> 10345.35 | G19: ='Table 1'!C54 -> 1319400 | H19: 0.5446415 | I19: 0.4553585 | J19: =H19*$G19 -> 718600 | K19: =I19*$G19 -> 600800 | L19: =E19*1000000/J19 -> 27551.697 | M19: =F19*1000000/K19 -> 17219.291 | N19: ='Table 1'!H54 -> 17549.708 | O19: =L19/$N19 -> 1.5699234 | P19: =M19/$N19 -> 0.98117252 | Q19: 1988 | R19: 75100 | S19: 42400 | T19: 32700 | U19: =J19+S19 -> 761000 | V19: =K19+T19 -> 633500 | W19: =G19+R19 -> 1394500 | X19: =(E19*1000000/U19)/$N19 -> 1.4824533 | Y19: =(F19*1000000/V19)/$N19 -> 0.93052636 | Z19: ='Table 1'!Q54 -> 1.2317213 | AA19: =1-M19/L19 -> 0.37501886
A20: 1989 | B20: ='Table 1'!I55 -> 31508 | C20: 0.64841706 | D20: 0.35158294 | E20: =$B20*C20 -> 20430.325 | F20: =$B20*D20 -> 11077.675 | G20: ='Table 1'!C55 -> 1257400 | H20: 0.53801495 | I20: 0.46198505 | J20: 676500 | K20: 580900 | L20: =E20*1000000/J20 -> 30200.036 | M20: =F20*1000000/K20 -> 19069.849 | N20: ='Table 1'!H55 -> 18746.99 | O20: =L20/$N20 -> 1.6109272 | P20: =M20/$N20 -> 1.0172219 | Q20: 1989 | R20: 105000 | S20: 61000 | T20: 44000 | U20: =J20+S20 -> 737500 | V20: =K20+T20 -> 624900 | W20: =G20+R20 -> 1362400 | X20: =(E20*1000000/U20)/$N20 -> 1.4776844 | Y20: =(F20*1000000/V20)/$N20 -> 0.94559803 | Z20: ='Table 1'!Q55 -> 1.2336292 | AA20: =1-M20/L20 -> 0.3685488
A21: 1990 | B21: ='Table 1'!I56 -> 32442 | C21: 0.64692423 | D21: 0.35307577 | E21: =$B21*C21 -> 20987.516 | F21: =$B21*D21 -> 11454.484 | G21: ='Table 1'!C56 -> 1222500 | H21: 0.53357873 | I21: 0.46642127 | J21: 652300 | K21: 570200 | L21: =E21*1000000/J21 -> 32174.637 | M21: =F21*1000000/K21 -> 20088.538 | N21: ='Table 1'!H56 -> 19181.071 | O21: =L21/$N21 -> 1.6774161 | P21: =M21/$N21 -> 1.0473105 | Q21: 1990 | R21: 120500 | S21: 70200 | T21: 50300 | U21: =J21+S21 -> 722500 | V21: =K21+T21 -> 620500 | W21: =G21+R21 -> 1343000 | X21: =(E21*1000000/U21)/$N21 -> 1.5144339 | Y21: =(F21*1000000/V21)/$N21 -> 0.96241171 | Z21: ='Table 1'!Q56 -> 1.2593857 | AA21: =1-M21/L21 -> 0.37564059
A22: 1991 | B22: ='Table 1'!I57 -> 32849 | C22: 0.64193776 | D22: 0.35806224 | E22: =$B22*C22 -> 21087.013 | F22: =$B22*D22 -> 11761.987 | G22: ='Table 1'!C57 -> 1226800 | H22: 0.52730681 | I22: 0.47269319 | J22: 646900 | K22: 579900 | L22: =E22*1000000/J22 -> 32597.022 | M22: =F22*1000000/K22 -> 20282.784 | N22: ='Table 1'!H57 -> 19052.319 | O22: =L22/$N22 -> 1.7109215 | P22: =M22/$N22 -> 1.0645835 | Q22: 1991 | R22: 145100 | S22: 86000 | T22: 59200 | U22: =J22+S22 -> 732900 | V22: =K22+T22 -> 639100 | W22: =G22+R22 -> 1371900 | X22: =(E22*1000000/U22)/$N22 -> 1.5101584 | Y22: =(F22*1000000/V22)/$N22 -> 0.96597085 | Z22: ='Table 1'!Q57 -> 1.2567586 | AA22: =1-M22/L22 -> 0.37777185
A23: 1992 | B23: ='Table 1'!I58 -> 32534 | C23: 0.63537716 | D23: 0.36462284 | E23: =$B23*C23 -> 20671.361 | F23: =$B23*D23 -> 11862.639 | G23: ='Table 1'!C58 -> 1190700 | H23: 0.5233896 | I23: 0.4766104 | J23: 623200 | K23: 567500 | L23: =E23*1000000/J23 -> 33169.706 | M23: =F23*1000000/K23 -> 20903.329 | N23: ='Table 1'!H58 -> 18611.752 | O23: =L23/$N23 -> 1.7821915 | P23: =M23/$N23 -> 1.1231253 | Q23: 1992 | R23: 184600 | S23: 110900 | T23: 73700 | U23: =J23+S23 -> 734100 | V23: =K23+T23 -> 641200 | W23: =G23+R23 -> 1375300 | X23: =(E23*1000000/U23)/$N23 -> 1.512957 | Y23: =(F23*1000000/V23)/$N23 -> 0.99403242 | Z23: ='Table 1'!Q58 -> 1.2710211 | AA23: =1-M23/L23 -> 0.36980661
A24: 1993 | B24: ='Table 1'!I59 -> 33219 | C24: 0.63328604 | D24: 0.36671396 | E24: =$B24*C24 -> 21037.129 | F24: =$B24*D24 -> 12181.871 | G24: ='Table 1'!C59 -> 1193700 | H24: 0.5209014 | I24: 0.4790986 | J24: 621800 | K24: 571900 | L24: =E24*1000000/J24 -> 33832.629 | M24: =F24*1000000/K24 -> 21300.701 | N24: ='Table 1'!H59 -> 19215.085 | O24: =L24/$N24 -> 1.7607328 | P24: =M24/$N24 -> 1.1085406 | Q24: 1993 | R24: 177000 | S24: 106700 | T24: 70300 | U24: =J24+S24 -> 728500 | V24: =K24+T24 -> 642200 | W24: =G24+R24 -> 1370700 | X24: =(E24*1000000/U24)/$N24 -> 1.5028464 | Y24: =(F24*1000000/V24)/$N24 -> 0.98719146 | Z24: ='Table 1'!Q59 -> 1.2612519 | AA24: =1-M24/L24 -> 0.37040953
A25: 1994 | B25: ='Table 1'!I60 -> 34766 | C25: 0.63344577 | D25: 0.36655423 | E25: =$B25*C25 -> 22022.376 | F25: =$B25*D25 -> 12743.624 | G25: ='Table 1'!C60 -> 1224000 | H25: 0.52328431 | I25: 0.47671569 | J25: 640500 | K25: 583500 | L25: =E25*1000000/J25 -> 34383.1 | M25: =F25*1000000/K25 -> 21839.973 | N25: ='Table 1'!H60 -> 20955.179 | O25: =L25/$N25 -> 1.6407925 | P25: =M25/$N25 -> 1.0422232 | Q25: 1994 | R25: 165500 | S25: 98200 | T25: 67300 | U25: =J25+S25 -> 738700 | V25: =K25+T25 -> 650800 | W25: =G25+R25 -> 1389500 | X25: =(E25*1000000/U25)/$N25 -> 1.4226717 | Y25: =(F25*1000000/V25)/$N25 -> 0.93444566 | Z25: ='Table 1'!Q60 -> 1.1940013 | AA25: =1-M25/L25 -> 0.364805
A26: 1995 | B26: ='Table 1'!I61 -> 37088 | C26: 0.63554252 | D26: 0.36445748 | E26: =$B26*C26 -> 23571.001 | F26: =$B26*D26 -> 13516.999 | G26: ='Table 1'!C61 -> 1289900 | H26: 0.52430421 | I26: 0.47569579 | J26: 676300 | K26: 613600 | L26: =E26*1000000/J26 -> 34852.878 | M26: =F26*1000000/K26 -> 22029.007 | N26: ='Table 1'!H61 -> 22404.302 | O26: =L26/$N26 -> 1.5556333 | P26: =M26/$N26 -> 0.98324899 | Q26: 1995 | R26: 136300 | S26: 79800 | T26: 56500 | U26: =J26+S26 -> 756100 | V26: =K26+T26 -> 670100 | W26: =G26+R26 -> 1426200 | X26: =(E26*1000000/U26)/$N26 -> 1.3914493 | Y26: =(F26*1000000/V26)/$N26 -> 0.90034559 | Z26: ='Table 1'!Q61 -> 1.1607042 | AA26: =1-M26/L26 -> 0.36794294
A27: 1996 | B27: ='Table 1'!I62 -> 39329 | C27: 0.63575132 | D27: 0.36424868 | E27: =$B27*C27 -> 25003.464 | F27: =$B27*D27 -> 14325.536 | G27: ='Table 1'!C62 -> 1338400 | H27: 0.52428273 | I27: 0.47571727 | J27: =H27*$G27 -> 701700 | K27: =I27*$G27 -> 636700 | L27: =E27*1000000/J27 -> 35632.697 | M27: =F27*1000000/K27 -> 22499.664 | N27: ='Table 1'!H62 -> 23417.699 | O27: =L27/$N27 -> 1.521614 | P27: =M27/$N27 -> 0.96079741 | Q27: 1996 | R27: 115400 | S27: 63900 | T27: 51500 | U27: =J27+S27 -> 765600 | V27: =K27+T27 -> 688200 | W27: =G27+R27 -> 1453800 | X27: =(E27*1000000/U27)/$N27 -> 1.394614 | Y27: =(F27*1000000/V27)/$N27 -> 0.88889816 | Z27: ='Table 1'!Q62 -> 1.1552182 | AA27: =1-M27/L27 -> 0.3685669
A28: 1997 | B28: ='Table 1'!I63 -> 41970 | C28: 0.63312012 | D28: 0.36687988 | E28: =$B28*C28 -> 26572.051 | F28: =$B28*D28 -> 15397.949 | G28: ='Table 1'!C63 -> 1381700 | H28: 0.51907071 | I28: 0.48092929 | J28: =H28*$G28 -> 717200 | K28: =I28*$G28 -> 664500 | L28: =E28*1000000/J28 -> 37049.709 | M28: =F28*1000000/K28 -> 23172.233 | N28: ='Table 1'!H63 -> 24206.36 | O28: =L28/$N28 -> 1.5305774 | P28: =M28/$N28 -> 0.95727869 | Q28: 1997 | R28: 119100 | S28: 65200 | T28: 53800 | U28: =J28+S28 -> 782400 | V28: =K28+T28 -> 718300 | W28: =G28+R28 -> 1500800 | X28: =(E28*1000000/U28)/$N28 -> 1.4030293 | Y28: =(F28*1000000/V28)/$N28 -> 0.88557941 | Z28: ='Table 1'!Q63 -> 1.1552784 | AA28: =1-M28/L28 -> 0.3745637
A29: 1998 | B29: ='Table 1'!I64 -> 43707 | C29: 0.62717393 | D29: 0.37282607 | E29: =$B29*C29 -> 27411.891 | F29: =$B29*D29 -> 16295.109 | G29: ='Table 1'!C64 -> 1401600 | H29: 0.51790811 | I29: 0.48209189 | J29: =H29*$G29 -> 725900 | K29: =I29*$G29 -> 675700 | L29: =E29*1000000/J29 -> 37762.627 | M29: =F29*1000000/K29 -> 24115.893 | N29: ='Table 1'!H64 -> 24801.172 | O29: =L29/$N29 -> 1.5226146 | P29: =M29/$N29 -> 0.97236908 | Q29: 1998 | R29: 132500 | S29: 73500 | T29: 58900 | U29: =J29+S29 -> 799400 | V29: =K29+T29 -> 734600 | W29: =G29+R29 -> 1534100 | X29: =(E29*1000000/U29)/$N29 -> 1.3826194 | Y29: =(F29*1000000/V29)/$N29 -> 0.89440483 | Z29: ='Table 1'!Q64 -> 1.1487489 | AA29: =1-M29/L29 -> 0.36138201
A30: 1999 | B30: ='Table 1'!I65 -> 44714 | C30: 0.61444531 | D30: 0.38555469 | E30: =$B30*C30 -> 27474.308 | F30: =$B30*D30 -> 17239.692 | G30: ='Table 1'!C65 -> 1381800 | H30: 0.51215805 | I30: 0.48784195 | J30: =H30*$G30 -> 707700 | K30: =I30*$G30 -> 674100 | L30: =E30*1000000/J30 -> 38821.969 | M30: =F30*1000000/K30 -> 25574.384 | N30: ='Table 1'!H65 -> 25019.714 | O30: =L30/$N30 -> 1.5516552 | P30: =M30/$N30 -> 1.0221693 | Q30: 1999 | R30: 146100 | S30: 82500 | T30: 63600 | U30: =J30+S30 -> 790200 | V30: =K30+T30 -> 737700 | W30: =G30+R30 -> 1527900 | X30: =(E30*1000000/U30)/$N30 -> 1.3896563 | Y30: =(F30*1000000/V30)/$N30 -> 0.93404413 | Z30: ='Table 1'!Q65 -> 1.1696778 | AA30: =1-M30/L30 -> 0.34123939
A31: 2000 | B31: ='Table 1'!I66 -> 45817 | C31: 0.6101607 | D31: 0.3898393 | E31: =$B31*C31 -> 27955.733 | F31: =$B31*D31 -> 17861.267 | G31: ='Table 1'!C66 -> 1403300 | H31: 0.5105822 | I31: 0.4894178 | J31: =H31*$G31 -> 716500 | K31: =I31*$G31 -> 686800 | L31: =E31*1000000/J31 -> 39017.073 | M31: =F31*1000000/K31 -> 26006.505 | N31: ='Table 1'!H66 -> 26690.83 | O31: =L31/$N31 -> 1.4618156 | P31: =M31/$N31 -> 0.97436101 | Q31: 2000 | R31: 129000 | S31: 72300 | T31: 56700 | U31: =J31+S31 -> 788800 | V31: =K31+T31 -> 743500 | W31: =G31+R31 -> 1532300 | X31: =(E31*1000000/U31)/$N31 -> 1.3278282 | Y31: =(F31*1000000/V31)/$N31 -> 0.90005534 | Z31: ='Table 1'!Q66 -> 1.120265 | AA31: =1-M31/L31 -> 0.33345834
A32: 2001 | B32: ='Table 1'!I67 -> 48141 | C32: 0.60933776 | D32: 0.39066224 | E32: =$B32*C32 -> 29334.129 | F32: =$B32*D32 -> 18806.871 | G32: ='Table 1'!C67 -> 1435100 | H32: 0.51041739 | I32: 0.48958261 | J32: =H32*$G32 -> 732500 | K32: =I32*$G32 -> 702600 | L32: =E32*1000000/J32 -> 40046.593 | M32: =F32*1000000/K32 -> 26767.536 | N32: ='Table 1'!H67 -> 28124.446 | O32: =L32/$N32 -> 1.4239069 | P32: =M32/$N32 -> 0.95175338 | Q32: 2001 | R32: 113100 | S32: 63100 | T32: 50000 | U32: =J32+S32 -> 795600 | V32: =K32+T32 -> 752600 | W32: =G32+R32 -> 1548200 | X32: =(E32*1000000/U32)/$N32 -> 1.3109751 | Y32: =(F32*1000000/V32)/$N32 -> 0.88852235 | Z32: ='Table 1'!Q67 -> 1.1056154 | AA32: =1-M32/L32 -> 0.33159017
A33: 2002 | B33: ='Table 1'!I68 -> 51721 | C33: 0.60573887 | D33: 0.39426113 | E33: =$B33*C33 -> 31329.42 | F33: =$B33*D33 -> 20391.58 | G33: ='Table 1'!C68 -> 1496200 | H33: 0.50955755 | I33: 0.49044245 | J33: =H33*$G33 -> 762400 | K33: =I33*$G33 -> 733800 | L33: =E33*1000000/J33 -> 41093.153 | M33: =F33*1000000/K33 -> 27789.016 | N33: ='Table 1'!H68 -> 30214.927 | O33: =L33/$N33 -> 1.3600282 | P33: =M33/$N33 -> 0.91971151 | Q33: 2002 | R33: 106700 | S33: 57900 | T33: 48800 | U33: =J33+S33 -> 820300 | V33: =K33+T33 -> 782600 | W33: =G33+R33 -> 1602900 | X33: =(E33*1000000/U33)/$N33 -> 1.2640321 | Y33: =(F33*1000000/V33)/$N33 -> 0.86236175 | Z33: ='Table 1'!Q68 -> 1.0679205 | AA33: =1-M33/L33 -> 0.32375557
A34: 2003 | B34: ='Table 1'!I69 -> 55130 | C34: 0.60454319 | D34: 0.39545681 | E34: =$B34*C34 -> 33328.466 | F34: =$B34*D34 -> 21801.534 | G34: ='Table 1'!C69 -> 1543100 | H34: 0.50832739 | I34: 0.49167261 | J34: =H34*$G34 -> 784400 | K34: =I34*$G34 -> 758700 | L34: =E34*1000000/J34 -> 42489.12 | M34: =F34*1000000/K34 -> 28735.382 | N34: ='Table 1'!H69 -> 31042.493 | O34: =L34/$N34 -> 1.3687406 | P34: =M34/$N34 -> 0.92567894 | Q34: 2003 | R34: 105100 | S34: 54900 | T34: 50300 | U34: =J34+S34 -> 839300 | V34: =K34+T34 -> 809000 | W34: =G34+R34 -> 1648200 | X34: =(E34*1000000/U34)/$N34 -> 1.279209 | Y34: =(F34*1000000/V34)/$N34 -> 0.86812437 | Z34: ='Table 1'!Q69 -> 1.0775105 | AA34: =1-M34/L34 -> 0.32370024
A35: 2004 | B35: ='Table 1'!I70 -> 59373 | C35: 0.61289922 | D35: 0.38710078 | E35: =$B35*C35 -> 36389.665 | F35: =$B35*D35 -> 22983.335 | G35: ='Table 1'!C70 -> 1591300 | H35: 0.50568717 | I35: 0.49431283 | J35: =H35*$G35 -> 804700 | K35: =I35*$G35 -> 786600 | L35: =E35*1000000/J35 -> 45221.406 | M35: =F35*1000000/K35 -> 29218.579 | N35: ='Table 1'!H70 -> 32679.166 | O35: =L35/$N35 -> 1.3837993 | P35: =M35/$N35 -> 0.8941042 | Q35: 2004 | R35: 94400 | S35: 46400 | T35: 48000 | U35: =J35+S35 -> 851100 | V35: =K35+T35 -> 834600 | W35: =G35+R35 -> 1685700 | X35: =(E35*1000000/U35)/$N35 -> 1.3083577 | Y35: =(F35*1000000/V35)/$N35 -> 0.84268196 | Z35: ='Table 1'!Q70 -> 1.0777989 | AA35: =1-M35/L35 -> 0.35387724
A36: 2005 | B36: ='Table 1'!I71 -> 64347 | C36: 0.6166547 | D36: 0.3833453 | E36: =$B36*C36 -> 39679.88 | F36: =$B36*D36 -> 24667.12 | G36: ='Table 1'!C71 -> 1649400 | H36: 0.50976113 | I36: 0.49023887 | J36: =H36*$G36 -> 840800 | K36: =I36*$G36 -> 808600 | L36: =E36*1000000/J36 -> 47193.007 | M36: =F36*1000000/K36 -> 30505.961 | N36: ='Table 1'!H71 -> 34398.258 | O36: =L36/$N36 -> 1.3719592 | P36: =M36/$N36 -> 0.88684608 | Q36: 2005 | R36: 83200 | S36: 41000 | T36: 42200 | U36: =J36+S36 -> 881800 | V36: =K36+T36 -> 850800 | W36: =G36+R36 -> 1732600 | X36: =(E36*1000000/U36)/$N36 -> 1.3081688 | Y36: =(F36*1000000/V36)/$N36 -> 0.84285818 | Z36: ='Table 1'!Q71 -> 1.0796762 | AA36: =1-M36/L36 -> 0.3535915
A37: 2006 | B37: ='Table 1'!I72 -> 69696 | C37: 0.60335984 | D37: 0.39664016 | E37: =$B37*C37 -> 42051.768 | F37: =$B37*D37 -> 27644.232 | G37: ='Table 1'!C72 -> 1709800 | H37: 0.50795415 | I37: 0.49204585 | J37: =H37*$G37 -> 868500 | K37: =I37*$G37 -> 841300 | L37: =E37*1000000/J37 -> 48418.846 | M37: =F37*1000000/K37 -> 32858.947 | N37: ='Table 1'!H72 -> 35576.706 | O37: =L37/$N37 -> 1.3609704 | P37: =M37/$N37 -> 0.92360847 | Q37: 2006 | R37: 84300 | S37: 41200 | T37: 43100 | U37: =J37+S37 -> 909700 | V37: =K37+T37 -> 884400 | W37: =G37+R37 -> 1794100 | X37: =(E37*1000000/U37)/$N37 -> 1.2993326 | Y37: =(F37*1000000/V37)/$N37 -> 0.8785977 | Z37: ='Table 1'!Q72 -> 1.0919317 | AA37: =1-M37/L37 -> 0.32136038
A38: 2007 | B38: ='Table 1'!I73 -> 74449 | C38: 0.61028096 | D38: 0.38971904 | E38: =$B38*C38 -> 45434.807 | F38: =$B38*D38 -> 29014.193 | G38: ='Table 1'!C73 -> 1766200 | H38: 0.50962518 | I38: 0.49037482 | J38: =H38*$G38 -> 900100 | K38: =I38*$G38 -> 866100 | L38: =E38*1000000/J38 -> 50477.511 | M38: =F38*1000000/K38 -> 33499.818 | N38: ='Table 1'!H73 -> 36713.334 | O38: =L38/$N38 -> 1.3749095 | P38: =M38/$N38 -> 0.91247006 | Q38: 2007 | R38: 84500 | S38: 41900 | T38: 42600 | U38: =J38+S38 -> 942000 | V38: =K38+T38 -> 908700 | W38: =G38+R38 -> 1850700 | X38: =(E38*1000000/U38)/$N38 -> 1.3137537 | Y38: =(F38*1000000/V38)/$N38 -> 0.86969332 | Z38: ='Table 1'!Q73 -> 1.0957186 | AA38: =1-M38/L38 -> 0.33634171
... A54: 2023 | B54: ='Table 1'!I89 -> 173313 | C54: 0.56908925 | D54: 0.43091075 | E54: =$B54*C54 -> 98630.565 | F54: =$B54*D54 -> 74682.435 | G54: ='Table 1'!C89 -> 2393533.2 | H54: 0.51314753 | I54: 0.48685247 | J54: =H54*$G54 -> 1228235.6 | K54: =I54*$G54 -> 1165297.6 | L54: =E54*1000000/J54 -> 80302.64 | M54: =F54*1000000/K54 -> 64088.725 | N54: ='Table 1'!H89 -> 66908.905 | O54: =L54/$N54 -> 1.2001787 | P54: =M54/$N54 -> 0.95785046 | Q54: 2023 | R54: 99100 | S54: 48300 | T54: 50800 | U54: =J54+S54 -> 1276535.6 | V54: =K54+T54 -> 1216097.6 | W54: =G54+R54 -> 2492633.2 | X54: =(E54*1000000/U54)/$N54 -> 1.1547678 | Y54: =(F54*1000000/V54)/$N54 -> 0.91783821 | Z54: ='Table 1'!Q89 -> 1.0391754 | AA54: =1-M54/L54 -> 0.20191011

Sheet Table 4
A1: Table 4. Analysis using estimated full-time workers in place of ‘employees’
A2: Click for table sources
B3: 1 | C3: 2 | D3: 3 | E3: 4 | F3: 5 | G3: 6 | H3: 7 | I3: 8 | J3: 9 | K3: 10
B4: Hours paid per year, millions | C4: Implied FTEs @ 35 hours per week | D4: Unemployed (assumed full-time-equivalent) | E4: Total FTE + unemployed | F4: Compensation of employees $million | G4: Average wage $ per FTE (employees only) | H4: Average wage $ per FTE (employees plus unemployed) | I4: Adjusted NDI per adult, $ | J4: Wage Ratio for FTE workers (employees only) | K4: Wage Ratio for FTE workers (employees plus unemployed)
A5: 1939 | B5: 731.2124 | C5: =B5*1000000/(35*52) -> 401765.06 | F5: ='Table 1'!I5 -> 215.47126 | G5: =F5*1000000/C5 -> 536.31161 | I5: ='Table 1'!H5 -> 311.19044 | J5: =G5/I5 -> 1.7234193
A6: 1940 | B6: 723.5918 | C6: =B6*1000000/(35*52) -> 397577.91 | F6: ='Table 1'!I6 -> 218.35704 | G6: =F6*1000000/C6 -> 549.21824 | I6: ='Table 1'!H6 -> 335.56127 | J6: =G6/I6 -> 1.6367152
A7: 1941 | B7: 822.07762 | C7: =B7*1000000/(35*52) -> 451691 | F7: ='Table 1'!I7 -> 256.83405 | G7: =F7*1000000/C7 -> 568.60564 | I7: ='Table 1'!H7 -> 368.87888 | J7: =G7/I7 -> 1.5414426
A8: 1942 | B8: 864.00045 | C8: =B8*1000000/(35*52) -> 474725.52 | F8: ='Table 1'!I8 -> 280.88218 | G8: =F8*1000000/C8 -> 591.67281 | I8: ='Table 1'!H8 -> 404.53244 | J8: =G8/I8 -> 1.462609
A9: 1943 | B9: 989.43183 | C9: =B9*1000000/(35*52) -> 543643.86 | F9: ='Table 1'!I9 -> 332.82615 | G9: =F9*1000000/C9 -> 612.21357 | I9: ='Table 1'!H9 -> 468.93482 | J9: =G9/I9 -> 1.3055409
A10: 1944 | B10: 1117.0876 | C10: =B10*1000000/(35*52) -> 613784.39 | F10: ='Table 1'!I10 -> 382.84626 | G10: =F10*1000000/C10 -> 623.74715 | I10: ='Table 1'!H10 -> 517.57075 | J10: =G10/I10 -> 1.2051437
A11: 1945 | B11: 1060.4637 | C11: =B11*1000000/(35*52) -> 582672.35 | F11: ='Table 1'!I11 -> 376.11279 | G11: =F11*1000000/C11 -> 645.4962 | I11: ='Table 1'!H11 -> 507.70472 | J11: =G11/I11 -> 1.2714008
A12: 1946 | B12: 1032.8144 | C12: =B12*1000000/(35*52) -> 567480.42 | F12: ='Table 1'!I12 -> 387.65589 | G12: =F12*1000000/C12 -> 683.11765 | I12: ='Table 1'!H12 -> 512.54986 | J12: =G12/I12 -> 1.3327828
A13: 1947 | B13: 963.17916 | C13: =B13*1000000/(35*52) -> 529219.32 | F13: ='Table 1'!I13 -> 375.15086 | G13: =F13*1000000/C13 -> 708.87598 | I13: ='Table 1'!H13 -> 532.07213 | J13: =G13/I13 -> 1.332293
A14: 1948 | B14: 1018.5546 | C14: =B14*1000000/(35*52) -> 559645.4 | F14: ='Table 1'!I14 -> 416.51365 | G14: =F14*1000000/C14 -> 744.24564 | I14: ='Table 1'!H14 -> 591.37014 | J14: =G14/I14 -> 1.2585107
A15: 1949 | B15: 1029.6304 | C15: =B15*1000000/(35*52) -> 565731.01 | F15: ='Table 1'!I15 -> 445.37141 | G15: =F15*1000000/C15 -> 787.24942 | I15: ='Table 1'!H15 -> 595.61589 | J15: =G15/I15 -> 1.3217401
A16: 1950 | B16: 1066.1737 | C16: =B16*1000000/(35*52) -> 585809.75 | F16: ='Table 1'!I16 -> 489.61997 | G16: =F16*1000000/C16 -> 835.80032 | I16: ='Table 1'!H16 -> 664.95881 | J16: =G16/I16 -> 1.2569204
... A21: 1955 | B21: 1286.5171 | C21: =B21*1000000/(35*52) -> 706877.55 | F21: ='Table 1'!I21 -> 852.2658 | G21: =F21*1000000/C21 -> 1205.6767 | I21: ='Table 1'!H21 -> 1030.8393 | J21: =G21/I21 -> 1.1696069
A22: 1956 | B22: 1353.0496 | C22: =B22*1000000/(35*52) -> 743433.82 | D22: ='Table 1'!N22 -> 5270 | E22: =C22+D22 -> 748703.82 | F22: ='Table 1'!I22 -> 924.4102 | G22: =F22*1000000/C22 -> 1243.4331 | H22: =F22*1000000/E22 -> 1234.6808 | I22: ='Table 1'!H22 -> 1066.141 | J22: =G22/I22 -> 1.1662933 | K22: =H22/I22 -> 1.158084
A23: 1957 | B23: 1377.0864 | C23: =B23*1000000/(35*52) -> 756640.9 | D23: ='Table 1'!N23 -> 5154.25 | E23: =C23+D23 -> 761795.15 | F23: ='Table 1'!I23 -> 975.39224 | G23: =F23*1000000/C23 -> 1289.1085 | H23: =F23*1000000/E23 -> 1280.3865 | I23: ='Table 1'!H23 -> 1099.1899 | J23: =G23/I23 -> 1.1727805 | K23: =H23/I23 -> 1.1648456
A24: 1958 | B24: 1398.8806 | C24: =B24*1000000/(35*52) -> 768615.69 | D24: ='Table 1'!N24 -> 4950 | E24: =C24+D24 -> 773565.69 | F24: ='Table 1'!I24 -> 1052.3463 | G24: =F24*1000000/C24 -> 1369.1449 | H24: =F24*1000000/E24 -> 1360.3838 | I24: ='Table 1'!H24 -> 1152.0331 | J24: =G24/I24 -> 1.1884597 | K24: =H24/I24 -> 1.1808548
A25: 1959 | B25: 1440.5464 | C25: =B25*1000000/(35*52) -> 791508.99 | D25: ='Table 1'!N25 -> 5243 | E25: =C25+D25 -> 796751.99 | F25: ='Table 1'!I25 -> 1096.5948 | G25: =F25*1000000/C25 -> 1385.4484 | H25: =F25*1000000/E25 -> 1376.3315 | I25: ='Table 1'!H25 -> 1172.6676 | J25: =G25/I25 -> 1.1814502 | K25: =H25/I25 -> 1.1736757
A26: 1960 | B26: 1471.83 | C26: =B26*1000000/(35*52) -> 808697.79 | D26: ='Table 1'!N26 -> 5269.25 | E26: =C26+D26 -> 813967.04 | F26: ='Table 1'!I26 -> 1161.0438 | G26: =F26*1000000/C26 -> 1435.6956 | H26: =F26*1000000/E26 -> 1426.4015 | I26: ='Table 1'!H26 -> 1247.6565 | J26: =G26/I26 -> 1.1507138 | K26: =H26/I26 -> 1.1432646
A27: 1961 | B27: 1531.4602 | C27: =B27*1000000/(35*52) -> 841461.67 | D27: ='Table 1'!N27 -> 4492.75 | E27: =C27+D27 -> 845954.42 | F27: ='Table 1'!I27 -> 1254.3506 | G27: =F27*1000000/C27 -> 1490.6806 | H27: =F27*1000000/E27 -> 1482.7638 | I27: ='Table 1'!H27 -> 1338.8847 | J27: =G27/I27 -> 1.1133749 | K27: =H27/I27 -> 1.1074619
A28: 1962 | B28: 1573.1762 | C28: =B28*1000000/(35*52) -> 864382.51 | D28: ='Table 1'!N28 -> 4474 | E28: =C28+D28 -> 868856.51 | F28: ='Table 1'!I28 -> 1339 | G28: =F28*1000000/C28 -> 1549.0827 | H28: =F28*1000000/E28 -> 1541.106 | I28: ='Table 1'!H28 -> 1343.7791 | J28: =G28/I28 -> 1.1527808 | K28: =H28/I28 -> 1.1468448
A29: 1963 | B29: 1610.9593 | C29: =B29*1000000/(35*52) -> 885142.48 | D29: ='Table 1'!N29 -> 5160.75 | E29: =C29+D29 -> 890303.23 | F29: ='Table 1'!I29 -> 1419 | G29: =F29*1000000/C29 -> 1603.1317 | H29: =F29*1000000/E29 -> 1593.839 | I29: ='Table 1'!H29 -> 1430.5012 | J29: =G29/I29 -> 1.1206784 | K29: =H29/I29 -> 1.1141822
A30: 1964 | B30: 1685.5934 | C30: =B30*1000000/(35*52) -> 926150.23 | D30: ='Table 1'!N30 -> 5052 | E30: =C30+D30 -> 931202.23 | F30: ='Table 1'!I30 -> 1525 | G30: =F30*1000000/C30 -> 1646.6011 | H30: =F30*1000000/E30 -> 1637.6679 | I30: ='Table 1'!H30 -> 1529.4266 | J30: =G30/I30 -> 1.0766134 | K30: =H30/I30 -> 1.0707725
A31: 1965 | B31: 1761.3623 | C31: =B31*1000000/(35*52) -> 967781.48 | D31: ='Table 1'!N31 -> 5247.5 | E31: =C31+D31 -> 973028.98 | F31: ='Table 1'!I31 -> 1689 | G31: =F31*1000000/C31 -> 1745.2287 | H31: =F31*1000000/E31 -> 1735.8168 | I31: ='Table 1'!H31 -> 1645.6283 | J31: =G31/I31 -> 1.0605242 | K31: =H31/I31 -> 1.0548049
A32: 1966 | B32: 1842.183 | C32: =B32*1000000/(35*52) -> 1012188.5 | D32: ='Table 1'!N32 -> 5464 | E32: =C32+D32 -> 1017652.5 | F32: ='Table 1'!I32 -> 1854 | G32: =F32*1000000/C32 -> 1831.6747 | H32: =F32*1000000/E32 -> 1821.84 | I32: ='Table 1'!H32 -> 1735.6562 | J32: =G32/I32 -> 1.0553211 | K32: =H32/I32 -> 1.0496549
A33: 1967 | B33: 1903.4841 | C33: =B33*1000000/(35*52) -> 1045870.4 | D33: ='Table 1'!N33 -> 5947.25 | E33: =C33+D33 -> 1051817.6 | F33: ='Table 1'!I33 -> 2003 | G33: =F33*1000000/C33 -> 1915.1513 | H33: =F33*1000000/E33 -> 1904.3225 | I33: ='Table 1'!H33 -> 1745.1602 | J33: =G33/I33 -> 1.0974071 | K33: =H33/I33 -> 1.0912021
... A88: 2022 | B88: 3620.8803 | C88: =B88*1000000/(35*52) -> 1989494.7 | D88: ='Table 1'!N88 -> 99300 | E88: =C88+D88 -> 2088794.7 | F88: ='Table 1'!I88 -> 158502 | G88: =F88*1000000/C88 -> 79669.476 | H88: =F88*1000000/E88 -> 75882.039 | I88: ='Table 1'!H88 -> 63523.663 | J88: =G88/I88 -> 1.2541701 | K88: =H88/I88 -> 1.1945476

Sheet Table 5
A1: Table 5: Imputation of labour income to the self-employed
A2: Click for table sources
B3: 1 | C3: 2 | D3: 3 | E3: 4 | F3: 5 | G3: 6 | H3: 7 | I3: 8 | J3: 9 | K3: 10 | L3: 11 | M3: 12
B4: Number of self-employed | C4: Net self-employed income, $m | D4: Share of self-employed income in adjusted NDI | E4: Adjusted NDI excluding mixed income, $m | F4: Compensation of employees as % of Column (4) | G4: Imputed labour income of the self-employed $m, (4) x (2) | H4: Imputed labour income per self-employed, $, (6) ÷ (1) | I4: Self-employed employment rate | J4: Self-employed imputed Wage Ratio | K4: Self-employed imputed labour share of adjusted NDI | L4: Wage Ratio if all self-employed income is labour income | M4: Memo item: Self-employed % of total employed labour force
A5: 1939 | B5: 155656.9 | C5: ='Table 2'!G6 -> 99.673731 | D5: =C5/'Table 1'!G5 -> 0.26556951 | E5: ='Table 1'!G5-'Table 5'!C5 -> 275.64696 | F5: ='Table 1'!I5/'Table 5'!E5 -> 0.78169288 | G5: =F5*C5 -> 77.914247 | H5: =G5*1000000/B5 -> 500.5512 | I5: =B5/'Table 1'!B5 -> 0.12906013 | J5: =H5/'Table 1'!H5 -> 1.6085044 | K5: =G5/'Table 1'!G5 -> 0.2075938 | L5: =((C5*1000000)/B5)/'Table 1'!H5 -> 2.0577192 | M5: =B5/'Table 6'!B8 -> 0.21674136
A6: 1940 | B6: 152439.62 | C6: ='Table 2'!G7 -> 105.90334 | D6: =C6/'Table 1'!G6 -> 0.26089039 | E6: ='Table 1'!G6-'Table 5'!C6 -> 300.02705 | F6: ='Table 1'!I6/'Table 5'!E6 -> 0.72779118 | G6: =F6*C6 -> 77.075516 | H6: =G6*1000000/B6 -> 505.6134 | I6: =B6/'Table 1'!B6 -> 0.1260138 | J6: =H6/'Table 1'!H6 -> 1.5067693 | K6: =G6/'Table 1'!G6 -> 0.18987373 | L6: =((C6*1000000)/B6)/'Table 1'!H6 -> 2.0703319 | M6: =B6/'Table 6'!B9 -> 0.2112418
A7: 1941 | B7: 149127.82 | C7: ='Table 2'!G8 -> 102.34356 | D7: =C7/'Table 1'!G7 -> 0.23198352 | E7: ='Table 1'!G7-'Table 5'!C7 -> 338.82382 | F7: ='Table 1'!I7/'Table 5'!E7 -> 0.75801652 | G7: =F7*C7 -> 77.578112 | H7: =G7*1000000/B7 -> 520.2122 | I7: =B7/'Table 1'!B7 -> 0.12469214 | J7: =H7/'Table 1'!H7 -> 1.4102521 | K7: =G7/'Table 1'!G7 -> 0.17584734 | L7: =((C7*1000000)/B7)/'Table 1'!H7 -> 1.8604503 | M7: =B7/'Table 6'!B10 -> 0.20566447
A8: 1942 | B8: 145719.47 | C8: ='Table 2'!G9 -> 106.79328 | D8: =C8/'Table 1'!G8 -> 0.22093054 | E8: ='Table 1'!G8-'Table 5'!C8 -> 376.58618 | F8: ='Table 1'!I8/'Table 5'!E8 -> 0.74586429 | G8: =F8*C8 -> 79.653297 | H8: =G8*1000000/B8 -> 546.62081 | I8: =B8/'Table 1'!B8 -> 0.12195027 | J8: =H8/'Table 1'!H8 -> 1.351241 | K8: =G8/'Table 1'!G8 -> 0.1647842 | L8: =((C8*1000000)/B8)/'Table 1'!H8 -> 1.8116445 | M8: =B8/'Table 6'!B11 -> 0.2000077
A9: 1943 | B9: 142212.5 | C9: ='Table 2'!G10 -> 114.80278 | D9: =C9/'Table 1'!G9 -> 0.20606274 | E9: ='Table 1'!G9-'Table 5'!C9 -> 442.32258 | F9: ='Table 1'!I9/'Table 5'!E9 -> 0.75245119 | G9: =F9*C9 -> 86.383488 | H9: =G9*1000000/B9 -> 607.42542 | I9: =B9/'Table 1'!B9 -> 0.11970088 | J9: =H9/'Table 1'!H9 -> 1.2953302 | K9: =G9/'Table 1'!G9 -> 0.15505216 | L9: =((C9*1000000)/B9)/'Table 1'!H9 -> 1.7214807 | M9: =B9/'Table 6'!B12 -> 0.19426978
A10: 1944 | B10: 138604.77 | C10: ='Table 2'!G11 -> 119.2525 | D10: =C10/'Table 1'!G10 -> 0.19164558 | E10: ='Table 1'!G10-'Table 5'!C10 -> 503.00292 | F10: ='Table 1'!I10/'Table 5'!E10 -> 0.76112136 | G10: =F10*C10 -> 90.765625 | H10: =G10*1000000/B10 -> 654.85211 | I10: =B10/'Table 1'!B10 -> 0.1152867 | J10: =H10/'Table 1'!H10 -> 1.2652417 | K10: =G10/'Table 1'!G10 -> 0.14586554 | L10: =((C10*1000000)/B10)/'Table 1'!H10 -> 1.662339 | M10: =B10/'Table 6'!B13 -> 0.18844896
A11: 1945 | B11: 134894.07 | C11: ='Table 2'!G12 -> 129.04188 | D11: =C11/'Table 1'!G11 -> 0.20603416 | E11: ='Table 1'!G11-'Table 5'!C11 -> 497.27116 | F11: ='Table 1'!I11/'Table 5'!E11 -> 0.7563535 | G11: =F11*C11 -> 97.601281 | H11: =G11*1000000/B11 -> 723.54017 | I11: =B11/'Table 1'!B11 -> 0.10934845 | J11: =H11/'Table 1'!H11 -> 1.42512 | K11: =G11/'Table 1'!G11 -> 0.15583466 | L11: =((C11*1000000)/B11)/'Table 1'!H11 -> 1.8841984 | M11: =B11/'Table 6'!B14 -> 0.18254342
A12: 1946 | B12: 139211.65 | C12: ='Table 2'!G13 -> 149.5106 | D12: =C12/'Table 1'!G12 -> 0.22745912 | E12: ='Table 1'!G12-'Table 5'!C12 -> 507.79697 | F12: ='Table 1'!I12/'Table 5'!E12 -> 0.76340726 | G12: =F12*C12 -> 114.13748 | H12: =G12*1000000/B12 -> 819.88452 | I12: =B12/'Table 1'!B12 -> 0.10855331 | J12: =H12/'Table 1'!H12 -> 1.599619 | K12: =G12/'Table 1'!G12 -> 0.17364394 | L12: =((C12*1000000)/B12)/'Table 1'!H12 -> 2.0953679 | M12: =B12/'Table 6'!B15 -> 0.1848512
A13: 1947 | B13: 143584.48 | C13: ='Table 2'!G14 -> 174.42903 | D13: =C13/'Table 1'!G13 -> 0.25132354 | E13: ='Table 1'!G13-'Table 5'!C13 -> 519.61271 | F13: ='Table 1'!I13/'Table 5'!E13 -> 0.72198169 | G13: =F13*C13 -> 125.93457 | H13: =G13*1000000/B13 -> 877.07647 | I13: =B13/'Table 1'!B13 -> 0.11007594 | J13: =H13/'Table 1'!H13 -> 1.6484165 | K13: =G13/'Table 1'!G13 -> 0.181451 | L13: =((C13*1000000)/B13)/'Table 1'!H13 -> 2.2831833 | M13: =B13/'Table 6'!B16 -> 0.18714599
A14: 1948 | B14: 146819.16 | C14: ='Table 2'!G15 -> 207.35696 | D14: =C14/'Table 1'!G14 -> 0.26549902 | E14: ='Table 1'!G14-'Table 5'!C14 -> 573.65142 | F14: ='Table 1'!I14/'Table 5'!E14 -> 0.72607446 | G14: =F14*C14 -> 150.55659 | H14: =G14*1000000/B14 -> 1025.456 | I14: =B14/'Table 1'!B14 -> 0.1111697 | J14: =H14/'Table 1'!H14 -> 1.7340341 | K14: =G14/'Table 1'!G14 -> 0.19277206 | L14: =((C14*1000000)/B14)/'Table 1'!H14 -> 2.3882318 | M14: =B14/'Table 6'!B17 -> 0.18942789
A15: 1949 | B15: 150318.63 | C15: ='Table 2'!G16 -> 218.03629 | D15: =C15/'Table 1'!G15 -> 0.27381306 | E15: ='Table 1'!G15-'Table 5'!C15 -> 578.25988 | F15: ='Table 1'!I15/'Table 5'!E15 -> 0.77019248 | G15: =F15*C15 -> 167.92991 | H15: =G15*1000000/B15 -> 1117.1597 | I15: =B15/'Table 1'!B15 -> 0.11243576 | J15: =H15/'Table 1'!H15 -> 1.8756378 | K15: =G15/'Table 1'!G15 -> 0.21088876 | L15: =((C15*1000000)/B15)/'Table 1'!H15 -> 2.4352845 | M15: =B15/'Table 6'!B18 -> 0.19169702
A16: 1950 | B16: 154749.11 | C16: ='Table 2'!G17 -> 262.53349 | D16: =C16/'Table 1'!G16 -> 0.29196972 | E16: ='Table 1'!G16-'Table 5'!C16 -> 636.64704 | F16: ='Table 1'!I16/'Table 5'!E16 -> 0.76906032 | G16: =F16*C16 -> 201.90409 | H16: =G16*1000000/B16 -> 1304.7189 | I16: =B16/'Table 1'!B16 -> 0.11443952 | J16: =H16/'Table 1'!H16 -> 1.9621048 | K16: =G16/'Table 1'!G16 -> 0.22454233 | L16: =((C16*1000000)/B16)/'Table 1'!H16 -> 2.5513016 | M16: =B16/'Table 6'!B19 -> 0.19395347
